BEGIN:VCALENDAR
VERSION:2.0
PRODID:-//Stadtgeschichte München//DE
CALSCALE:GREGORIAN
BEGIN:VEVENT
UID:2200@stadtgeschichte-muenchen.de
SUMMARY:Die Wurm in Pasing
DESCRIPTION:&lt;div&gt;F&amp;uuml;r Kinder ab acht Jahren mit ihren Eltern/Gro&amp;szlig;eltern Die Wurm schl&amp;auml;ngelt sich durch ganz Pasing - und auf der &amp;bdquo;W&amp;uuml;rmin-sel&amp;quot; stand vor Urzeiten das erste Schloss, mit dem alles begann. Wir wandeln auf den Spuren der mittelalterlichen Pasinger Schl&amp;ouml;sser im sch&amp;ouml;nen Klostergarten der Englischen Fr&amp;auml;ulein. Anschlie&amp;szlig;end suchen wir nach den Orten der ehemaligen W&amp;uuml;rmb&amp;auml;der, in denen die Pasinger und die vielen Sonntagsausfl&amp;uuml;gler bis zum Bau des Westbades im Sommer baden und im Winter Schlittschuh laufen konnten. Wie war das damals eigentlich - durften die Damen fr&amp;uuml;her wirklich nur voll bekleidet ins Wasser, um baden zu k&amp;ouml;nnen? Und was war ein H&amp;uuml;ttenbad? Am Ende des Spaziergangs treffen wir uns zum Fr&amp;uuml;hst&amp;uuml;ck im Kindercafe in der Pasinger Fabrik. In Kooperation mit Kultur &amp;amp; Spielraum e.V. und &amp;bdquo;Lust auf Kunst!&amp;quot;&lt;/div&gt;
DTSTART:20120722T093000
DTEND:20120722T110000
LOCATION: Eingangstor der Congregatio Jesu, Institutstr. 3 
ORGANIZER:MVHS München West
END:VEVENT
END:VCALENDAR