BEGIN:VCALENDAR
VERSION:2.0
PRODID:-//Stadtgeschichte München//DE
CALSCALE:GREGORIAN
BEGIN:VEVENT
UID:2201@stadtgeschichte-muenchen.de
SUMMARY:Pasing vor 100 Jahren
DESCRIPTION:&lt;div&gt;In derZeit um 1900 mauserte Pasing sich von einer b&amp;auml;uerlich gepr&amp;auml;gten Gemeinde zur selbstst&amp;auml;ndigen, modernen Stadt. Neue Entwicklungen wie die Einf&amp;uuml;hrung der Elektrizit&amp;auml;t- &amp;uuml;brigens noch vor M&amp;uuml;nchen - und die Kanalisation wurden im ehemaligen Rathaus in der B&amp;auml;ckerstra&amp;szlig;e geplant und auch bald umgesetzt. 1905 kam die Erhebung zur Stadt, und noch im gleichen Jahr wurde der Grundstein f&amp;uuml;r die neue Kirche Maria Schutz mit Kirchplatz und Schule auf dem Gel&amp;auml;nde der ehemaligen Wachszieherei Ebenb&amp;ouml;ck gelegt. W&amp;auml;hrend im Norden der Stadt bereits die ersten Villenkolonien f&amp;uuml;r das Pasinger B&amp;uuml;rgertum entstehen, bauen die jetzt gegr&amp;uuml;ndeten Genossenschaften rund um die neue Kirche ihre ersten Wohnanlagen f&amp;uuml;r die einfachere Bev&amp;ouml;lkerung. Ein historischer Rundgang durch den fr&amp;uuml;heren Ortskern von Pasing mit Besuch der Kirche Maria Schutz, der Baugenossenschaft Arbeiterheim Pasing und dem Ebenb&amp;ouml;ckhaus.&lt;/div&gt;
DTSTART:20120722T133000
DTEND:20120722T150000
LOCATION:Volkshochschule, Bäckerstr. 14
ORGANIZER:MVHS München West
END:VEVENT
END:VCALENDAR