BEGIN:VCALENDAR
VERSION:2.0
PRODID:-//Stadtgeschichte München//DE
CALSCALE:GREGORIAN
BEGIN:VEVENT
UID:22307@stadtgeschichte-muenchen.de
SUMMARY:Kind sein früher - Kind sein heute
DESCRIPTION:&lt;h1&gt;&amp;nbsp;&lt;/h1&gt; &lt;p&gt;Für Kinder ab fünf Jahren mit begleitenden Erwachsenen&lt;/p&gt; &lt;p&gt;Wir lernen Frida und Paul kennen und machen mit ihnen eine Zeitreise durch Münchens Vergangenheit. Wie lebten die beiden Kinder im Mittelalter in der &quot;befestigten&quot; Stadt oder um 1900 hier in München? Frida war damals eine behütete Bürgerstochter und Paul ein armer Arbeitersohn, der in einer sogenannten &quot;Herberge&quot; vor den Toren Münchens wohnte. Und wie leben die &quot;Münchner Kindl&quot; heute? In der Museumswerkstatt könnt ihr ein Windrad basteln, wie es schon Großpapa und Großmama machten.&lt;/p&gt; &lt;p&gt;In Kooperation mit dem Münchner Stadtmuseum&lt;/p&gt; &lt;p&gt;&amp;nbsp;&lt;/p&gt; &lt;p&gt;&amp;nbsp;&lt;/p&gt; &lt;ul&gt; &lt;/ul&gt; 
DTSTART:20230115T150000
DTEND:20230115T170000
LOCATION:Münchner Stadtmuseum St.-Jakobs-Platz 1
ORGANIZER:MVHS
END:VEVENT
END:VCALENDAR