BEGIN:VCALENDAR
VERSION:2.0
PRODID:-//Stadtgeschichte München//DE
CALSCALE:GREGORIAN
BEGIN:VEVENT
UID:22311@stadtgeschichte-muenchen.de
SUMMARY:Bayerische Herrscher - Max Emanuel
DESCRIPTION:&lt;p&gt;Kurfürst Max Emanuel (1662&amp;nbsp;–&amp;nbsp;1726) gehört zu den schillernden Herrschern der Geschichte Bayerns. In wechselnden politischen Allianzen verfolgte er sein Ziel des Aufstiegs der Wittelsbacher&amp;nbsp;–&amp;nbsp;mit ebenso spektakulären Erfolgen wie Niederlagen. An der Seite Habsburgs galt er als&amp;nbsp;„Türkenbezwinger“, an der Seite Frankreichs verlor er die entscheidende Schlacht bei Höchstädt im Spanischen Erbfolgekrieg. Er hinterließ&amp;nbsp;die Schlösser Schleißheim und Fürstenried, eine bedeutende Kunstsammlung, die heute den Grundstock der Alten Pinakothek bildet, und 27 Millionen Gulden Schulden.&lt;/p&gt; &lt;p&gt;&lt;a href=&quot;https://www.vhs-suedost.de/programm/kurs/Bayerische-Herrscher-Max-Emanuel/222-11472?knradd=222-11472&quot;&gt;&amp;nbsp;Warenkorb&lt;/a&gt;&lt;/p&gt; &lt;p&gt;&amp;nbsp;&lt;/p&gt; 
DTSTART:20230116T180000
DTEND:20230116T193000
LOCATION:
ORGANIZER:VHS SüdOst Landkreis München
END:VEVENT
END:VCALENDAR