BEGIN:VCALENDAR
VERSION:2.0
PRODID:-//Stadtgeschichte München//DE
CALSCALE:GREGORIAN
BEGIN:VEVENT
UID:22319@stadtgeschichte-muenchen.de
SUMMARY:Rund um den Nikolai-Platz
DESCRIPTION:&lt;p&gt;Uralte Bauernhöfe, ein Adelspalast und Unternehmervillen - das alles liegt nur wenige Meter voneinander entfernt. Bei diesem neuen Bummel durch das alte Schwabing geht es um schöne Gebäude, die früheren Bewohner und das Flair eines der schönsten Münchner Viertel.&amp;nbsp;&lt;/p&gt; 
DTSTART:20230517T170000
DTEND:20230517T183000
LOCATION:Nikolai-Platz/Grünanlage
ORGANIZER:VHS SüdOst Landkreis München
END:VEVENT
END:VCALENDAR