BEGIN:VCALENDAR
VERSION:2.0
PRODID:-//Stadtgeschichte München//DE
CALSCALE:GREGORIAN
BEGIN:VEVENT
UID:22320@stadtgeschichte-muenchen.de
SUMMARY:Rund um den St-Anna-Platz
DESCRIPTION:&lt;p&gt;Das Lehel ist der älteste Münchner Vorort und gilt als große und charmante alte Dame unter den Wohnvierteln in Zentrumsnähe. Wir genießen den Spaziergang zu schönen Fassaden und Plätzen, erfahren viel über historische Hintergründe und hören Geschichten über frühere Bewohner.&lt;/p&gt; 
DTSTART:20230524T170000
DTEND:20230524T183000
LOCATION:Haupteingang der St. Anna-Kirche
ORGANIZER:VHS SüdOst Landkreis München
END:VEVENT
END:VCALENDAR