BEGIN:VCALENDAR
VERSION:2.0
PRODID:-//Stadtgeschichte München//DE
CALSCALE:GREGORIAN
BEGIN:VEVENT
UID:22322@stadtgeschichte-muenchen.de
SUMMARY:Der Bogenhausener Friedhof
DESCRIPTION:&lt;p&gt;Künstlervillen, alter Bogenhausener Adel und schließlich der idyllischste Friedhof Münchens mit Erich Kästner, Liesl Karlstadt und Helmut Fischer laden uns ein ans Isarufer. Wir besuchen die Ruhestätte berühmter Münchner und lernen ihre Lebensgeschichten kennen.&lt;/p&gt; 
DTSTART:20230629T170000
DTEND:20230629T183000
LOCATION:Am Friedensengel
ORGANIZER:VHS SüdOst Landkreis München
END:VEVENT
END:VCALENDAR