BEGIN:VCALENDAR
VERSION:2.0
PRODID:-//Stadtgeschichte München//DE
CALSCALE:GREGORIAN
BEGIN:VEVENT
UID:22323@stadtgeschichte-muenchen.de
SUMMARY:Von Kleinvenedig und der Lohe
DESCRIPTION:&lt;p&gt;Unterhalb des Giesinger Bergs forschen wir nach Spuren der früheren Bewohner: Tagelöhner, Kleingewerbetreibende und Hofbedienstete. Wir finden zwischen großen Mietshäusern noch vereinzelte Herbergshäusl, alte Mühlen, frühere Manufakturen und zahlreiche romantische Ecken.&lt;/p&gt; 
DTSTART:20230704T170000
DTEND:20230704T191500
LOCATION:„Am Marianum“ Humboltstraße 2
ORGANIZER:VHS SüdOst Landkreis München
END:VEVENT
END:VCALENDAR