BEGIN:VCALENDAR
VERSION:2.0
PRODID:-//Stadtgeschichte München//DE
CALSCALE:GREGORIAN
BEGIN:VEVENT
UID:22324@stadtgeschichte-muenchen.de
SUMMARY:Berg am Laim und seine Kirchen
DESCRIPTION:&lt;p&gt;Hinter den Schürfstellen der ehemaligen Ziegeleien, alten Bauernhäusern und einem ruhigen Wohnviertel versteckt sich eine der schönsten Barockkirchen Bayerns. Durch grüne Parklandschaften entdecken wir verträumte Wohnsiedlungen und hören Geschichten der früheren Bewohner.&amp;nbsp;&lt;/p&gt; &lt;p&gt;Treffpunkt Baumkirchner Straße 9, an der Kreuzung Berg-am-Laim-Straße/Baumkirchner Straße (in der Nähe ist die Straßenbahnhaltestelle Baumkirchner Straße 9)&lt;/p&gt; 
DTSTART:20230714T143000
DTEND:20230714T164500
LOCATION:Berg-am-Laim-Straße/Baumkirchner Straße 9
ORGANIZER:VHS SüdOst Landkreis München
END:VEVENT
END:VCALENDAR