BEGIN:VCALENDAR
VERSION:2.0
PRODID:-//Stadtgeschichte München//DE
CALSCALE:GREGORIAN
BEGIN:VEVENT
UID:22326@stadtgeschichte-muenchen.de
SUMMARY:Farnental, Geisterbahnhof, Bürgermeisterbaum
DESCRIPTION:&lt;p&gt;Es wird Zeit, einmal über Pteridomanie zu plaudern. Und einem Baum die Ehre zu erweisen, dessen Namen kaum jemand kennt. Dabei ist letzterer nach einem benannt, der sich wirklich um den Westpark verdient gemacht hat. Wir gehen zu einem Filmschauplatz, zu alten Bäumen auf einer Insel der Zeit und steigen einem Tafelberg aufs Dach. Es geht um Zipfelmützen und Aussichten wie aus einem Gemälde von Monet. Und bei der Gans am Wasser schauen wir auch vorbei.&lt;/p&gt; &lt;p&gt;&amp;nbsp;&lt;/p&gt; &lt;p&gt;&amp;nbsp;&lt;/p&gt; 
DTSTART:20230616T160000
DTEND:20230616T180000
LOCATION:Bushaltestelle Baumgartnerstr. (Bus 134)
ORGANIZER:VHS SüdOst Landkreis München
END:VEVENT
END:VCALENDAR