BEGIN:VCALENDAR
VERSION:2.0
PRODID:-//Stadtgeschichte München//DE
CALSCALE:GREGORIAN
BEGIN:VEVENT
UID:22327@stadtgeschichte-muenchen.de
SUMMARY:Frühlingsmorgen, Fleischextrakt und Feuersbrunst
DESCRIPTION:&lt;p&gt;Mitten in München liegen drei Gärten, alle drei bekannt und doch kaum besucht: Die Lenbachgärten, ein neues abgeschottetes Luxusviertel, erbaut in &quot;immer wiederkehrenden Grundformen der Architektur und des Städtebaus&quot;. Daneben der Alte Botanische Garten mit Baumexoten wie Taschentuch- oder Lederhülsenbaum und anderen &quot;über den Erdkreis zerstreute Gattungen&quot;. Nach einem Besuch des einzigartigen Kunstpavillons geht es weiter in den Effnerpark, geschaffen von König Ludwigs II. Hofgärtner.&lt;/p&gt; &lt;p&gt;Inkl. Mittagspause.&lt;/p&gt; 
DTSTART:20230624T140000
DTEND:20230624T170000
LOCATION:
ORGANIZER:VHS SüdOst Landkreis München
END:VEVENT
END:VCALENDAR