BEGIN:VCALENDAR
VERSION:2.0
PRODID:-//Stadtgeschichte München//DE
CALSCALE:GREGORIAN
BEGIN:VEVENT
UID:22373@stadtgeschichte-muenchen.de
SUMMARY:Das schlägt dem Fass den Boden aus
DESCRIPTION:&lt;p&gt;&quot;Eine Eselsbrücke bauen&quot; oder &quot;Das schlägt dem Fass den Boden aus&quot; - wer kennt diese Redensarten nicht? Aber wo in München geht der Esel über die Brücke? Und wer zertrümmert ein Fass und verschwendet damit kostbaren Wein? Wir erklären Redewendungen, die alle aus dem Mittelalter stammen und heute noch oft verwendet werden. Der Rundgang führt zu Orten, an denen die Entwicklung der Stadt einen unmittelbaren Bezug zum Ursprung dieser Redensarten hat.&lt;/p&gt; &lt;p&gt;Die Führung endet voraussichtlich im Alten Hof.&lt;/p&gt; 
DTSTART:20230820T110000
DTEND:20230820T123000
LOCATION: Isartor, Innenhof Isartorplatz
ORGANIZER:MVHS
END:VEVENT
END:VCALENDAR