BEGIN:VCALENDAR
VERSION:2.0
PRODID:-//Stadtgeschichte München//DE
CALSCALE:GREGORIAN
BEGIN:VEVENT
UID:22384@stadtgeschichte-muenchen.de
SUMMARY:Vom Königsplatz zum Alten Botanischen Garten
DESCRIPTION:&lt;p&gt;Mit den Bauten des ehemaligen NSDAP-Parteizentrums am Königsplatz legten die Nationalsozialisten den Grundstein für ihre architektonische Machtideologie. Doch nicht nur der einstige Führerbau oder das Verwaltungsgebäude lassen ihre Funktion als Propagandainstrument erkennen. Den meisten eher unbekannt gehörten auch die Bauten um den Alten Botanischen Garten zum umfassenden Bauplan Hitlers, der unvorstellbare Ausmaße annehmen sollte. Wir beschäftigen uns bei dem Rundgang mit den Bauwerken und dem Areal – und mit dem Zusammenhang von Macht und Architektur.&lt;/p&gt; &lt;p&gt;Gefördert durch das Kulturreferat der Landeshauptstadt München im Rahmen der Arbeitsgemeinschaft Arbeit&amp;amp;Leben.&lt;/p&gt; 
DTSTART:20230515T100000
DTEND:20230515T113000
LOCATION:Vorplatz des NS-Dokumentationszentrums Max-Mannheimer-Platz 1
ORGANIZER:MVHS
END:VEVENT
END:VCALENDAR