BEGIN:VCALENDAR
VERSION:2.0
PRODID:-//Stadtgeschichte München//DE
CALSCALE:GREGORIAN
BEGIN:VEVENT
UID:22385@stadtgeschichte-muenchen.de
SUMMARY:Stimmen, Stelen, Stolpersteine - vom Hofgarten ins Univiertel
DESCRIPTION:&lt;p&gt;&quot;Vorbei ist nicht vorüber.&quot; Elias Canetti bringt mit seinem Diktum die Notwendigkeit von Erinnerungskultur auf den Punkt. Im Umgang mit der Erinnerung an den NS-Terror, an seine Opfer, seine Täter*innen und Menschen im Widerstand geht München die unterschiedlichsten Wege. Bei unserem Spaziergang erleben wir Orte, an denen visuell, akustisch und haptisch erinnert wird. Wir entdecken ritualisierte und temporäre Kunst der Erinnerung sowie Formen, ungebunden an Zeit und Raum. Auch gibt es immer noch Institutionen im Herzen der Stadt, wo man mit der Vergangenheit nur auf Anfrage herausrückt.&lt;/p&gt; &lt;p&gt;Die Führung endet voraussichtlich am Georg-Elser-Platz.&lt;/p&gt; &lt;p&gt;Weitere Stadtführungen zum Thema „Gedenken und Erinnern im Stadtbild“:&lt;/p&gt; &lt;p&gt;&lt;a href=&quot;https://www.mvhs.de/kurse/muenchen-unsere-stadt/muenchen-umgebung-entdecken/muenchen-heute-stadtviertel-entdecken/stadtzentrum/-sichtbar-unsichtbar-/erinnerungskultur-in-muenchen-teil-2-460-C-Q121252&quot; target=&quot;_blank&quot;&gt;Sonntag, 16. Juli: &quot;&quot;Sichtbar unsichtbar&quot; - Erinnerungskultur in München&quot;, mit Anette Spieldiener, Q121252&lt;/a&gt;&lt;/p&gt; &lt;p&gt;&lt;a href=&quot;https://www.mvhs.de/kurse/muenchen-unsere-stadt/muenchen-umgebung-entdecken/muenchen-damals-stadtgeschichte-entdecken/orte-des-erinnerns-und-gedenkens-an-die-ns-zeit/ein-themenrundgang-460-C-Q121254&quot; target=&quot;_blank&quot;&gt;Sonntag, 30. Juli: &quot;Orte des Erinnerns und Gedenkens an die NS-Zeit - Ein Themenrundgang&quot;, mit Gerd Modert, Q121254&lt;/a&gt;&lt;/p&gt; 
DTSTART:20230618T150000
DTEND:20230618T170000
LOCATION:Tor zum Hofgarten Odeonsplatz
ORGANIZER:MVHS
END:VEVENT
END:VCALENDAR