BEGIN:VCALENDAR
VERSION:2.0
PRODID:-//Stadtgeschichte München//DE
CALSCALE:GREGORIAN
BEGIN:VEVENT
UID:22395@stadtgeschichte-muenchen.de
SUMMARY:Tierisches München - Tiere im Stadtbild und in der Stadtgeschichte
DESCRIPTION:&lt;p&gt;Es gurrt, bellt, maunzt, fiept und brüllt in der Innenstadt - wie, das haben Sie noch nicht gehört? Dann kommen Sie mit auf eine &quot;tierische Stadtführung&quot;. Zwei- und Vierbeiner haben als Freunde und Begleiter der Münchnerinnen und Münchner über Jahrhunderte Geschichte geschrieben. Als Skulpturen, Reliefs, Gemälde und Zeichnungen sind sie im Stadtbild zu sehen und in Redewendungen wie &quot;auf den Hund gekommen&quot; oder &quot;die Katze aus dem Sack lassen&quot; beleben sie nach wie vor unsere Alltagssprache.&lt;/p&gt; &lt;p&gt;Die Führung endet voraussichtlich am Odeonsplatz.&lt;/p&gt; 
DTSTART:20230723T110000
DTEND:20230723T130000
LOCATION:unter dem Turm des Neuen Rathauses
ORGANIZER:MVHS
END:VEVENT
END:VCALENDAR