BEGIN:VCALENDAR
VERSION:2.0
PRODID:-//Stadtgeschichte München//DE
CALSCALE:GREGORIAN
BEGIN:VEVENT
UID:22398@stadtgeschichte-muenchen.de
SUMMARY:Die Kaulbachstraße und ihre einstigen Bewohnerinnen und Bewohner
DESCRIPTION:&lt;p&gt;Die Kaulbachstraße ist nicht nur voller prächtiger Bauten. In dieser Straße gibt es auch viele Adressen, die mit geschichtsträchtigen Persönlichkeiten verbunden sind, die einst dort lebten und arbeiteten: zum Beispiel Wilhelm von Kaulbach, Anita Augspurg, Toni Pfülf, Klabund, Fanny zu Reventlow und andere. Auf ihren Spuren werden wir spazieren und ihre Geschichten hören.&lt;/p&gt; &lt;p&gt;Die Führung endet voraussichtlich in der Kaulbachstraße Ecke Giselastraße.&lt;/p&gt; 
DTSTART:20230819T110000
DTEND:20230819T130000
LOCATION:Berliner Mauer Mahnmal Königinstr. 5
ORGANIZER:MVHS
END:VEVENT
END:VCALENDAR