BEGIN:VCALENDAR
VERSION:2.0
PRODID:-//Stadtgeschichte München//DE
CALSCALE:GREGORIAN
BEGIN:VEVENT
UID:22403@stadtgeschichte-muenchen.de
SUMMARY:&quot;Monaco Franze&quot; – dem &quot;Stenz&quot; in Schwabing auf der Spur
DESCRIPTION:&lt;p&gt;Entdecken Sie bei diesem Streifzug durch Schwabing Drehorte der Münchner Kultserie „Monaco Franze - Der ewige Stenz“ und wandeln Sie dabei auf den Spuren des charmanten &quot;Münchner Originals&quot;. Wo ging er zusammen mit dem &quot;Kopfeck Manni&quot; auf Frauenfang? Wo genau flanierte er einst mit jungen Damen? Und wieviel &quot;Franze&quot; steckte im Schauspieler Helmut Fischer, der die Filmfigur auf unnachahmliche Weise verkörperte?&lt;/p&gt; &lt;p&gt;&amp;nbsp;&lt;/p&gt; &lt;p&gt;Weitere Führungen in der Reihe „Filmkulisse München“:&lt;/p&gt; &lt;p&gt;&lt;a href=&quot;https://www.mvhs.de/kurse/muenchen-unsere-stadt/muenchen-umgebung-entdecken/muenchen-heute-stadtviertel-entdecken/stadtzentrum/einem-schreinermeister-und-seinem-kobold-auf-der-spur/filmkulisse-muenchen-drehorte-in-haidhausen-460-C-Q121404&quot; target=&quot;_blank&quot;&gt;Einem Schreinermeister und seinem Kobold auf der Spur – Drehorte in Haidhausen (Q121404) am 1. Juli&lt;/a&gt;&lt;/p&gt; 
DTSTART:20230624T140000
DTEND:20230624T160000
LOCATION:Münchner Freiheit/Ecke Hesseloherstr.
ORGANIZER:MVHS
END:VEVENT
END:VCALENDAR