BEGIN:VCALENDAR
VERSION:2.0
PRODID:-//Stadtgeschichte München//DE
CALSCALE:GREGORIAN
BEGIN:VEVENT
UID:22413@stadtgeschichte-muenchen.de
SUMMARY:Des hob\' i ja no nia ned gsehn! (Teil 1)
DESCRIPTION:&lt;p&gt;Da müssen auch Einheimische sehr genau hinschauen! Im Alltag läuft man oft achtlos an baulichen Besonderheiten und Denkmälern vorüber. Dieser Rundgang abseits ausgetretener Touristenpfade schärft den Blick. Sie werden staunen, was sich vom Sendlinger Tor aus im Hackenviertel, der Löwengrube bis hin zum Asamhof entdecken lässt: Wandgemälde, Statuen, Brunnen, teils klingende Kunstwerke, sogar ein überdimensionales Kältemolekül.&lt;/p&gt; &lt;p&gt;&lt;a href=&quot;https://www.mvhs.de/kurse/muenchen-unsere-stadt/muenchen-umgebung-entdecken/muenchen-heute-stadtviertel-entdecken/stadtzentrum/des-hob-i-ja-no-nia-ned-gsehn-teil-2-/die-muenchner-altstadt-fuer-muenchnerinnen-und-muenchner-460-C-Q121547&quot; target=&quot;_blank&quot;&gt;Teil 2 der Führung (Q121547) findet am 16. Juli statt.&lt;/a&gt;&amp;nbsp;Die beiden Führungen suchen unterschiedliche Orte auf und ergänzen sich somit.&lt;/p&gt; 
DTSTART:20230707T160000
DTEND:20230707T180000
LOCATION:unter dem Torbogen Sendlinger Tor
ORGANIZER:MVHS
END:VEVENT
END:VCALENDAR