BEGIN:VCALENDAR
VERSION:2.0
PRODID:-//Stadtgeschichte München//DE
CALSCALE:GREGORIAN
BEGIN:VEVENT
UID:22418@stadtgeschichte-muenchen.de
SUMMARY:Das Schlachthofviertel
DESCRIPTION:&lt;p&gt;Entdecken Sie ein Stadtviertel mit ganz eigenwilligem Charakter und wechselvoller Geschichte: Von 1876 bis 1878 entstand hier, nach den Plänen von Arnold Zenetti und Max von Pettenkofer, der damals modernste Schlacht- und Viehhof Europas. Der Schlachthof ist heute weiterhin in Betrieb. Auf dem Gelände des ehemaligen Viehhofs hat mittlerweile das Volkstheater seine Heimstatt gefunden und im Bereich des ehemaligen Südbahnhofs bietet der Bahnwärter Thiel einen Treffpunkt und Veranstaltungsort der ganz besonderen Art für die Münchner Kulturszene.&lt;/p&gt; 
DTSTART:20230804T160000
DTEND:20230804T180000
LOCATION:Zenettiplatz
ORGANIZER:MVHS
END:VEVENT
END:VCALENDAR