BEGIN:VCALENDAR
VERSION:2.0
PRODID:-//Stadtgeschichte München//DE
CALSCALE:GREGORIAN
BEGIN:VEVENT
UID:22421@stadtgeschichte-muenchen.de
SUMMARY:Wo einst die Flößer landeten
DESCRIPTION:&lt;p&gt;Das Lehel war die älteste Vorstadt Münchens außerhalb der Stadtbefestigungen. Hier lag der einst größte Floßhafen Europas. Im Lehel lebten Holzarbeiter, Flößer, Tagelöhner und Wäscherinnen, die für die Stadt als Dienstleistende von großer Bedeutung waren. Die Anlage der Maximilianstraße und der Prinzregentenstraße im 19. Jahrhundert leiteten den Wandel des Viertels zu einer privilegierten Wohngegend Münchens ein, deren sozialer Mittelpunkt der idyllische St.-Anna-Platz ist.&lt;/p&gt; &lt;p&gt;Die Führung endet voraussichtlich in der Nähe der Praterinsel.&lt;/p&gt; 
DTSTART:20230908T160000
DTEND:20230908T180000
LOCATION:Bayerisches Nationalmuseum Prinzregentenstr. 3
ORGANIZER:MVHS
END:VEVENT
END:VCALENDAR