BEGIN:VCALENDAR
VERSION:2.0
PRODID:-//Stadtgeschichte München//DE
CALSCALE:GREGORIAN
BEGIN:VEVENT
UID:22447@stadtgeschichte-muenchen.de
SUMMARY:Gedenkort ehemaliger »SS-Schießplatz Hebertshausen«
DESCRIPTION:&lt;p&gt;Auf dem SS-Schießplatz Hebertshausen bei Dachau wurden zwischen 1941 und 1942 über 4000 sowjetische Kriegsgefangene durch die Dachauer Lager-SS ermordet. Seit 2014 informiert eine Open-Air-Ausstellung unter Einbeziehung von Opfer-Biografien über die historischen Hintergründe des Verbrechens. Sie geht auf die Rolle der Täter und das Wissen der Bevölkerung ein. Die bekannten Namen der Opfer werden in der Gedenkinstallation „Ort der Namen“ festgehalten. Der Rundgang behandelt die historischen Ereignisse und den Umgang mit dem Ort nach 1945.&lt;/p&gt; &lt;p&gt;Die Themenführung findet in Kooperation mit der KZ-Gedenkstätte Dachau statt.&lt;/p&gt; &lt;p&gt;&amp;nbsp;&lt;/p&gt; &lt;ul&gt; &lt;/ul&gt; 
DTSTART:20230624T140000
DTEND:20230624T160000
LOCATION:Dachau Parkplatz der Gedenkstätte ehemaliger \"SS-Schießplatz Herbertshausen\" Alte Römerstr. 75
ORGANIZER:MVHS
END:VEVENT
END:VCALENDAR