BEGIN:VCALENDAR
VERSION:2.0
PRODID:-//Stadtgeschichte München//DE
CALSCALE:GREGORIAN
BEGIN:VEVENT
UID:22450@stadtgeschichte-muenchen.de
SUMMARY:Themenrundgang: spanische Häftlinge im Konzentrationslager Dachau
DESCRIPTION:&lt;p&gt;Etwa 700 Häftlinge spanischer Herkunft waren im KZ Dachau inhaftiert. Die meisten dieser überwiegend männlichen politischen Häftlinge wurden 1939 durch die Niederlage der Republikaner im Spanischen Bürgerkrieg ins Exil gedrängt und kamen ab 1944 aus französischen Internierungslagern und Gefängnissen nach Dachau. Der Rundgang befasst sich mit ihren Erfahrungen, ihren Solidaritäts- und Überlebensstrategien und ihren Beziehungen zu anderen Häftlingsgruppen. Eingegangen wird auch die Situation der spanischen Häftlinge nach der Befreiung des Lagers.&lt;/p&gt; &lt;p&gt;Die Themenführung findet in Kooperation mit der KZ-Gedenkstätte Dachau statt.&lt;/p&gt; 
DTSTART:20230826T140000
DTEND:20230826T160000
LOCATION:Dachau Besucherzentrum KZ-Gedenkstätte Dachau Pater-Roth-Str. 2a
ORGANIZER:MVHS
END:VEVENT
END:VCALENDAR