BEGIN:VCALENDAR
VERSION:2.0
PRODID:-//Stadtgeschichte München//DE
CALSCALE:GREGORIAN
BEGIN:VEVENT
UID:22451@stadtgeschichte-muenchen.de
SUMMARY:Kuratorinnenführung: &quot;ARt - Das KZ Dachau in Zeichnungen&quot;
DESCRIPTION:&lt;p&gt;Über das KZ Dachau sind Hunderte von Häftlingszeichnungen entstanden. Die App &quot;ARt - Das KZ Dachau in Zeichnungen&quot; zeigt eine kleine Auswahl von ihnen in Augmented Reality (AR) - also erweiterter Realität. Dieser Rundgang ist eine Kuratorinnenführung und gibt einen Einblick in den Entwicklungsprozess. Neben dem gemeinsamen Ausprobieren besteht die Möglichkeit, individuelle Fragen in Zusammenhang mit digitalen (Bildungs-)Angeboten oder auch den Inhalten der App zu stellen. Man benötigt ein Smartphone/Tablet mit vorinstallierter App und Datenvolumen.&lt;/p&gt; &lt;p&gt;Die Themenführung findet in Kooperation mit der KZ-Gedenkstätte Dachau statt.&lt;/p&gt; &lt;ul&gt; &lt;/ul&gt; 
DTSTART:20230909T140000
DTEND:20230909T160000
LOCATION:Dachau Besucherzentrum KZ-Gedenkstätte Dachau Pater-Roth-Str. 2a
ORGANIZER:MVHS
END:VEVENT
END:VCALENDAR