BEGIN:VCALENDAR
VERSION:2.0
PRODID:-//Stadtgeschichte München//DE
CALSCALE:GREGORIAN
BEGIN:VEVENT
UID:22479@stadtgeschichte-muenchen.de
SUMMARY:Neuer Schwabinger Friedhof und Münchner Nordfriedhof
DESCRIPTION:&lt;p&gt;In den 1880er Jahren wuchs Schwabing von 600 auf 10.000 Personen. Dies machte einen neuen Friedhof als Ersatz für den alten Dorffriedhof an der St. Ursula-Kirche notwendig, der an der damaligen Freisinger Landstraße, nördlich des späteren Schwabinger Güterbahnhofs, entstand. Nach der Eingemeindung 1892 wurde dieser &quot;Neue Schwabinger Friedhof&quot; Teil des von Hans Grässel angelegten Münchner Nordfriedhofs sowie eines neuen überkonfessionellen Friedhofskonzepts mit zahlreichen Prominentengräbern. Der alten Chausseé gab Familie Ungerer ihren Namen.&lt;/p&gt; 
DTSTART:20230512T170000
DTEND:20230512T183000
LOCATION:U6 Nordfriedhof Schenkendorf-/Ungererstr.
ORGANIZER:MVHS
END:VEVENT
END:VCALENDAR