BEGIN:VCALENDAR
VERSION:2.0
PRODID:-//Stadtgeschichte München//DE
CALSCALE:GREGORIAN
BEGIN:VEVENT
UID:22487@stadtgeschichte-muenchen.de
SUMMARY:Ost-West-Friedenskirche - die Kirche von Väterchen Timofej
DESCRIPTION:&lt;p&gt;Väterchen Timofej, wie er liebevoll genannt wird, ein Eremit aus Russland, und seine Frau Natascha haben diese Kirche in den 1950er Jahren aus dem Nachkriegsschutt Münchens und allerlei Unrat errichtet. So ist zum Beispiel die Decke des Gebäudes mit glitzerndem Schokoladenpapier versilbert. Bis heute steht die Kirche umgeben von einem verwunschenen Garten, einem kleinen Museum und einer Kapelle mitten im Olympiapark. Nach einer Einführung von Serge Kaiser, dem Nachfolger von Timofej, haben Sie Gelegenheit, diesen wunderschönen Ort zu erkunden.&lt;/p&gt; 
DTSTART:20230624T130000
DTEND:20230624T143000
LOCATION:Ost-West-Friedenskirche Spiridon-Louis-Ring 100
ORGANIZER:MVHS
END:VEVENT
END:VCALENDAR