BEGIN:VCALENDAR
VERSION:2.0
PRODID:-//Stadtgeschichte München//DE
CALSCALE:GREGORIAN
BEGIN:VEVENT
UID:22490@stadtgeschichte-muenchen.de
SUMMARY:Feierabendspaziergang durch den Alten Nördlichen Friedhof
DESCRIPTION:&lt;p&gt;Rundgang durch den alten Schwabinger Friedhof am Josephsplatz. Von 1868 bis 1939 war dies neben dem Alten Südlichen Friedhof der wichtigste innerstädtische Friedhof Münchens. Heute dient er der Bevölkerung der Maxvorstadt als idyllische Parkanlage. &quot;Hier würde ich auch gerne mal begraben werden!&quot; kann man dort manchmal hören. An ca. 50 Gräbern berühmter verstorbener Tänzerinnen, Erfinder, Ingenieure, Militärs, Maler und vieler anderer Persönlichkeiten des 19. Jahrhunderts werden Erläuterungen gegeben, auch mit Hilfe von Bildmaterial.&lt;/p&gt; 
DTSTART:20230706T170000
DTEND:20230706T190000
LOCATION:Josephsplatz vor der Kirche
ORGANIZER:MVHS
END:VEVENT
END:VCALENDAR