BEGIN:VCALENDAR
VERSION:2.0
PRODID:-//Stadtgeschichte München//DE
CALSCALE:GREGORIAN
BEGIN:VEVENT
UID:22491@stadtgeschichte-muenchen.de
SUMMARY:Feierabendspaziergang durch Freimann
DESCRIPTION:&lt;p&gt;Die 1920er Jahre waren eine bewegte Zeit in Freimann. Die Entwicklung zum Industrievorort brachte erhebliche Veränderungen mit sich. Auch nach hundert Jahren lassen sich noch Spuren dieser Vergangenheit erkennen, denen wir auf diesem Abendspaziergang nachgehen. Brigitte Fingerle-Trischler, langjährige Leiterin des Stadtteilarchivs Freimann in der Mohr-Villa, lädt zu einer Zeitreise ins vergangene Jahrhundert ein.&lt;/p&gt; 
DTSTART:20230707T190000
DTEND:20230707T210000
LOCATION:St.-Nikolaus-Platz
ORGANIZER:MVHS
END:VEVENT
END:VCALENDAR