BEGIN:VCALENDAR
VERSION:2.0
PRODID:-//Stadtgeschichte München//DE
CALSCALE:GREGORIAN
BEGIN:VEVENT
UID:22496@stadtgeschichte-muenchen.de
SUMMARY:München 1972
DESCRIPTION:&lt;p&gt;Zunächst galten sie als die &quot;heiteren Spiele&quot; von München, am 5. September 1972 unterbrach das Attentat auf die israelische Olympiamannschaft die Olympischen Spiele jäh. Elf Mitglieder des israelischen Teams wurden in München ermordet, auch ein deutscher Polizist kam zu Tode. Seit 2017 existiert im Olympiapark ein Erinnerungsort, der über die Vor- und Nachgeschichte informiert und den Opfern gedenkt. Eine Kooperation mit dem Jüdischen Museum München.&lt;/p&gt; 
DTSTART:20230909T160000
DTEND:20230909T173000
LOCATION:U3 Olympiazentrum - Ausgang BMW-Welt
ORGANIZER:MVHS
END:VEVENT
END:VCALENDAR