BEGIN:VCALENDAR
VERSION:2.0
PRODID:-//Stadtgeschichte München//DE
CALSCALE:GREGORIAN
BEGIN:VEVENT
UID:22507@stadtgeschichte-muenchen.de
SUMMARY:Stadtteilspaziergang Obersendling - ein Stadtteil verändert sich
DESCRIPTION:&lt;p&gt;Baustellen gehören seit Jahren zum Stadtbild in Obersendling. Dieser Spaziergang stellt die städtebaulichen Entwicklungen des Stadtteils vor. Auf dem EON-Gelände bietet die Dachterrasse einen ersten guten Überblick. Weiter geht´s zum jungen Quartier mit seinen sozialen Einrichtungen und dann zum bunten Sugar Mountain auf dem ehemaligen Betonwerk Katzenberger, wo wir über die geplante Bebauung dieses Areals staunen. Rund um den Ratzingerplatz entstehen verschiedene Schulen, hier hat auch die Münchner Volkshochschule ab Herbst einen neuen Standort.&lt;/p&gt; 
DTSTART:20220421T150000
DTEND:20220421T160000
LOCATION:Nachbarschaftstreff Südpark Eleonore-Romberg-Str. 20
ORGANIZER:MVHS
END:VEVENT
END:VCALENDAR