BEGIN:VCALENDAR
VERSION:2.0
PRODID:-//Stadtgeschichte München//DE
CALSCALE:GREGORIAN
BEGIN:VEVENT
UID:22508@stadtgeschichte-muenchen.de
SUMMARY:Ein Großprojekt wird konkret - die Verlängerung der U6 nach Martinsried
DESCRIPTION:&lt;p&gt;&quot;Endstation: Klinikum Großhadern&quot; - Dies soll sich in absehbarer Zukunft ändern. Die seit langem geplante Verlängerung der U-Bahn-Linie U6 bis zum Campus Martinsried macht Fortschritte. Derzeit geht man von einer möglichen Inbetriebnahme ab 2027 aus. Mit dem eigentlichen Tunnelbau soll im Jahr 2023 begonnen werden. Die Veranstaltung informiert über dieses Großprojekt und gibt Einblicke in die geplanten Bauabschnitte und Maßnahmen.&lt;/p&gt; &lt;p&gt;In Kooperation mit dem Stadtteilkulturzentrum Guardini90.&lt;/p&gt; 
DTSTART:20230525T190000
DTEND:20230525T203000
LOCATION:Guardini90 Guardinistr. 90
ORGANIZER:MVHS
END:VEVENT
END:VCALENDAR