BEGIN:VCALENDAR
VERSION:2.0
PRODID:-//Stadtgeschichte München//DE
CALSCALE:GREGORIAN
BEGIN:VEVENT
UID:22522@stadtgeschichte-muenchen.de
SUMMARY:Die Feuerwache 2 - ein Blick hinter die Kulissen der Feuerwehr München
DESCRIPTION:&lt;p&gt;Die Feuerwache 2 in Sendling ist eine von 10 Feuerwachen der Berufsfeuerwehr München. Angegliedert sind Feuerwehrschule sowie die Sachgebiete Atemschutz und Schlauchwerkstätte (die jedoch nicht zu besichtigen sind). Brandalarm, Rettungseinsatz, technische Hilfeleistung oder ABC-Schutz - die Feuerwehr leistet Hilfe in verschiedensten Notsituationen. Die Führung informiert über die Feuerwache 2, die Einsatzgebiete und den Arbeitsalltag der Wachleute.&lt;/p&gt; 
DTSTART:20230726T000013
DTEND:20230726T143000
LOCATION:Feuerwache 2 Aidenbachstr. 7
ORGANIZER:MVHS
END:VEVENT
END:VCALENDAR