BEGIN:VCALENDAR
VERSION:2.0
PRODID:-//Stadtgeschichte München//DE
CALSCALE:GREGORIAN
BEGIN:VEVENT
UID:22527@stadtgeschichte-muenchen.de
SUMMARY:Fürstenried West - ein Stadtviertel feiert den 60. Geburtstag!
DESCRIPTION:&lt;p&gt;Die Geschichte Fürstenrieds beginnt mit dem Bau eines Schlosses: Kurfürst Max Emanuel beauftragte Josef Effner mit dem Bau von Schloss Fürstenried (1715-1717). Ab 1962 wurde die Ansiedlung zur Trabantenstadt mit einer Mischbebauung aus Reihen- und Atriumhäusern, Mehrfamilienhäusern und Hochhäusern, dazu Anlagen für Erholung und Freizeit. Herausragende Beispiele des modernen Kirchenbaus sind die katholische Kirche St. Matthias von Alexander von Branca und die evangelische Andreaskirche von Gustav Gsaenger.&lt;/p&gt; 
DTSTART:20230621T170000
DTEND:20230621T183000
LOCATION:Schweizer Platz
ORGANIZER:MVHS
END:VEVENT
END:VCALENDAR