BEGIN:VCALENDAR
VERSION:2.0
PRODID:-//Stadtgeschichte München//DE
CALSCALE:GREGORIAN
BEGIN:VEVENT
UID:22532@stadtgeschichte-muenchen.de
SUMMARY:Alte Dorfgeschichte(n): der neue Geschichtspfad der Haderner Höfe
DESCRIPTION:&lt;p&gt;Bis heute ist in Großhadern der alte Dorfkern erhalten geblieben, auch wenn die alten Bauernhöfe inzwischen meist Läden, Gastronomie und Büros beherbergen. Der Geschichtsverein Hadern setzt den alten Gebäuden nun mit Haustafeln und einem eigenen Geschichtspfad ein Denkmal, welches wir in dieser Führung vor Ort erkunden. Machen Sie sich mit uns auf den Weg der Geschichte und Geschichten der Haderner Höfe und ihrer Bewohnerschaft.&lt;/p&gt; &lt;p&gt;In Kooperation mit dem Geschichtsverein Hadern e.V. und dem Stadtteilkulturzentrum Guardini90.&lt;/p&gt; &lt;p&gt;&amp;nbsp;&lt;/p&gt; &lt;ul&gt; &lt;/ul&gt; 
DTSTART:20230813T140000
DTEND:20230813T153000
LOCATION:Heiglhofstr./Ecke Farnweg
ORGANIZER:MVHS
END:VEVENT
END:VCALENDAR