BEGIN:VCALENDAR
VERSION:2.0
PRODID:-//Stadtgeschichte München//DE
CALSCALE:GREGORIAN
BEGIN:VEVENT
UID:22533@stadtgeschichte-muenchen.de
SUMMARY:Endlich Zeit für ...
DESCRIPTION:&lt;p&gt;Sie möchten sich über Inhalte und Besonderheiten der Senioren Volkshochschule informieren? An diesem Nachmittag haben Sie die Möglichkeit, im persönlichen Gespräch mit Mitarbeiter*innen der Münchner Volkshochschule, sich einen Überblick über das Kursangebot, Anmeldung und Buchung sowie Preise und Ermäßigungen zu verschaffen.&lt;/p&gt; &lt;p&gt;Es findet zusätzlich eine Beratung zu unseren Computer- und Gymnastikkursen statt.&lt;/p&gt; 
DTSTART:20230215T140000
DTEND:20230215T153000
LOCATION:Alten- und Service-Zentrum Westend Tulbeckstr. 31
ORGANIZER:MVHS
END:VEVENT
END:VCALENDAR