BEGIN:VCALENDAR
VERSION:2.0
PRODID:-//Stadtgeschichte München//DE
CALSCALE:GREGORIAN
BEGIN:VEVENT
UID:22534@stadtgeschichte-muenchen.de
SUMMARY:Von Saibling bis Forelle
DESCRIPTION:&lt;p&gt;Das Institut für Fischerei Starnberg kümmert sich schwerpunktmäßig um die Forschung und Ausbildung im Fischereiwesen. Wer z.B. in Bayern Fisch fangen möchte, braucht dazu eine staatliche Prüfung. Informationen dazu gibt es im Internet unter www.fischerpruefung-online.bayern.de&lt;/p&gt; &lt;p&gt;Bei der Führung lernen Sie zunächst die Aufgaben und Struktur des Instituts kennen. Anschließend geht es zur Aquakulturanlage, in der vor allem Saiblinge und Forellen gezüchtet werden. Sie sehen das Bruthaus, die Teichanlage sowie die Fischverarbeitung.&lt;/p&gt; &lt;p&gt;&amp;nbsp;&lt;/p&gt; &lt;p&gt;&amp;nbsp;&lt;/p&gt; &lt;ul&gt; &lt;/ul&gt; 
DTSTART:20230524T160000
DTEND:20230524T180000
LOCATION:Bayerische Landesanstalt für Landwirtschaft (LfL) Weilheimer Str. 8
ORGANIZER:MVHS
END:VEVENT
END:VCALENDAR