BEGIN:VCALENDAR
VERSION:2.0
PRODID:-//Stadtgeschichte München//DE
CALSCALE:GREGORIAN
BEGIN:VEVENT
UID:22540@stadtgeschichte-muenchen.de
SUMMARY:Denkmal Identitäten
DESCRIPTION:&lt;p&gt;Als sichtbare und raumbildende Objekte prägen Bauwerke wesentlich unsere facettenreichen Vorstellungen von Heimat und Identität - und Denkmalpflege nimmt in diesem Zusammenhang mit ihrem Anspruch an Bewahrung und Vermittlung von Kulturgut eine tragende Rolle ein, die allerdings in Zeiten gesellschaftlichen Wandels und unter Beteiligung unterschiedlicher Akteure immer wieder neu verhandelt wird. Diskutiert werden Relevanz und Möglichkeiten des Denkmalerhalts zwischen staatlicher Denkmalpflege und bürgerschaftlichem Engagement.&lt;/p&gt; &lt;p&gt;In Kooperation mit dem Bayerischen Landesamt für Denkmalpflege&lt;/p&gt; &lt;p&gt;Aktuelle Informationen zu dieser Veranstaltung finden Sie auf der Webseite des&lt;/p&gt; &lt;p&gt;&lt;a href=&quot;https://www.blfd.bayern.de/blfd/veranstaltungen&quot; target=&quot;_blank&quot;&gt;Bayerischen Landesamts für Denkmalpflege&lt;/a&gt;&lt;/p&gt; 
DTSTART:20230306T190000
DTEND:20230306T203000
LOCATION:
ORGANIZER:MVHS
END:VEVENT
END:VCALENDAR