BEGIN:VCALENDAR
VERSION:2.0
PRODID:-//Stadtgeschichte München//DE
CALSCALE:GREGORIAN
BEGIN:VEVENT
UID:22545@stadtgeschichte-muenchen.de
SUMMARY:Aubinger Gespräche
DESCRIPTION:&lt;p&gt;Den Wohnort zu verändern, bedeutet immer auch Neuorientierung. Ein Umfeld, das den sozialen Zusammenhalt wie auch die Lust zur Mitgestaltung im Viertel stärkt, unterstützt das Ankommen in einem neuen Stadtteil wie Freiham. Kunst kann hierbei ein &quot;Türöffner&quot; sein. Mit Akteur*innen der Kulturszene und Politik im Bezirk 22 und Vertreter*innen der Bayerischen Staatsoper und der Stadtverwaltung diskutieren Sie die Bedeutung von Kunst und Kultur als Gemeinschaft stiftende Elemente und erfahren, welche kulturellen Projekte bereits geplant sind.&lt;/p&gt; &lt;p&gt;In Kooperation mit dem Kulturzentrum ubo9, dem Stadtteilmanagement Freiham der MGS Münchner Gesellschaft für Stadterneuerung mbH, dem Fachbereich Musikvermittlung der Hochschule für Musik und Theater und der Bayerischen Staatsoper.&lt;/p&gt; 
DTSTART:20230629T190000
DTEND:20230629T203000
LOCATION:Kulturzentrum Ubostr. 9
ORGANIZER:MVHS
END:VEVENT
END:VCALENDAR