BEGIN:VCALENDAR
VERSION:2.0
PRODID:-//Stadtgeschichte München//DE
CALSCALE:GREGORIAN
BEGIN:VEVENT
UID:22574@stadtgeschichte-muenchen.de
SUMMARY:Die Nibelungenstraße - von Neuhausen nach Nymphenburg
DESCRIPTION:&lt;p&gt;Die Nibelungenstraße verbindet Neuhausen und Nymphenburg, gleichzeitig ist sie auch die Trennlinie zwischen dem &quot;proletarischen&quot; und dem &quot;großbürgerlichen&quot; Neuhausen. Der Weg führt vom alten Neuhauser Dorfkern fast bis zum Romanplatz. Wenn von den Teilnehmenden gewünscht, ist noch ein Abstecher zum &quot;Kurgarten&quot; in der De-la-Paz-Straße möglich.&lt;/p&gt; &lt;p&gt;In Zusammenarbeit mit der Geschichtswerkstatt Neuhausen e. V.&lt;/p&gt; &lt;p&gt;&amp;nbsp;&lt;/p&gt; &lt;p&gt;&amp;nbsp;&lt;/p&gt; &lt;ul&gt; &lt;/ul&gt; 
DTSTART:20230428T153000
DTEND:20230428T173000
LOCATION: vor dem Postamt Winthirstr. 4
ORGANIZER:MVHS
END:VEVENT
END:VCALENDAR