BEGIN:VCALENDAR
VERSION:2.0
PRODID:-//Stadtgeschichte München//DE
CALSCALE:GREGORIAN
BEGIN:VEVENT
UID:22576@stadtgeschichte-muenchen.de
SUMMARY:Fahrradtour: Bier - Rad - Lust
DESCRIPTION:&lt;p&gt;Eine Fahrradtour mit dem Richelbräu durch die Stadtteile Neuhausen und Nymphenburg nach dem Motto &quot;Richelator statt Rollator!&quot; Geboten wird Historisches und Gegenwärtiges zum Thema &quot;Bier- und Braukultur&quot; im 9. Stadtbezirk der Bierstadt München. Wir passieren Biergärten, Wirtshäuser und Geschäfte und können je nach Wetterlage und Laune einen &quot;Einkehrschwung&quot; machen. Start und Ende dieser &quot;Radfahrer-Wanderkneipe für Sattelfeste&quot; ist bei Neuhausens erster Hausbrauerei in der Richelstraße 26.&lt;/p&gt; &lt;p&gt;&amp;nbsp;&lt;/p&gt; &lt;p&gt;&amp;nbsp;&lt;/p&gt; &lt;ul&gt; &lt;/ul&gt; 
DTSTART:20230616T150000
DTEND:20230616T180000
LOCATION:Richelbräu und Gärkeller Richelstr. 26
ORGANIZER:MVHS
END:VEVENT
END:VCALENDAR