BEGIN:VCALENDAR
VERSION:2.0
PRODID:-//Stadtgeschichte München//DE
CALSCALE:GREGORIAN
BEGIN:VEVENT
UID:22592@stadtgeschichte-muenchen.de
SUMMARY:Unbekannte Blickwinkel im Nymphenburger Schlosspark
DESCRIPTION:&lt;p&gt;1663 erhielt Kurfürstin Henriette Adelaide von Savoyen die &quot;Schwaige Kemnath&quot; vom Kurfürsten als Geschenk. 1664 wurde auf dem Areal mit den Bauarbeiten für das Nymphenburger Schloss begonnen. Neben der kulturellen Bedeutung des Schlossparks darf dessen Bedeutung für den Naturschutz nicht übersehen werden. Der Nymphenburger Schlosspark ist Teil des Landschaftsschutzgebietes &quot;Nymphenburg&quot; und des europäischen Biotopverbundsystems Natura 2000 unter der Bezeichnung &quot;Nymphenburger Park mit Allee und Kapuzinerhölzl&quot;, welches wir bei der Führung erkunden.&lt;/p&gt; 
DTSTART:20230721T163000
DTEND:20230721T193000
LOCATION:Endhaltestelle der Trambahnlinie 17 Amalienburgstr.
ORGANIZER:MVHS
END:VEVENT
END:VCALENDAR