BEGIN:VCALENDAR
VERSION:2.0
PRODID:-//Stadtgeschichte München//DE
CALSCALE:GREGORIAN
BEGIN:VEVENT
UID:22608@stadtgeschichte-muenchen.de
SUMMARY:Vom Schlosskanal zum Pasinger Stadtpark
DESCRIPTION:&lt;p&gt;Unsere Fahrradtour beginnt am westlichen Ende des Schlosskanals. Hier folgen wir einer vom Schloss Nymphenburg kommenden historischen Sichtachse zur Blutenburg und erfahren Wissenswertes über Grünzüge in der Stadt und deren gärtnerische, ökologische und städtebauliche Funktion. Der Weg führt vorbei an der Blutenburg zum Würmkanal. Südlich der Bodenseestraße erkunden wir den Stadtpark Pasing mit seinen weiten Wiesenräumen und dem malerischen alten Baumbestand. Die Tour endet im Pasinger Stadtpark in der Nähe des Übergangs zum Paul-Diehl-Park.&lt;/p&gt; 
DTSTART:20230618T150000
DTEND:20230618T170000
LOCATION:Bärmannstr./Ecke Am Nymphenbad (vor der S-Bahn-Unterführung)
ORGANIZER:MVHS
END:VEVENT
END:VCALENDAR