BEGIN:VCALENDAR
VERSION:2.0
PRODID:-//Stadtgeschichte München//DE
CALSCALE:GREGORIAN
BEGIN:VEVENT
UID:22611@stadtgeschichte-muenchen.de
SUMMARY:Münchens Geheimgesellschaften: die Freimaurer
DESCRIPTION:&lt;p&gt;Wer das Wort &quot;Freimaurer&quot; hört, der denkt vermutlich an geheime Erkennungszeichen, an seltsame Symbole, an Verschwörungen und an finstere Rituale in versteckten Hauptquartieren. Aber was steckt tatsächlich hinter dieser berühmtesten aller Geheimgesellschaften? Und zu welchem Zweck und von wem wurden solche geheimen Gesellschaften überhaupt gegründet? Gab es sie auch in München? Diese und weitere Fragen beantwortet der Vortrag der Religionswissenschaftlerin und -historikerin Judith Bodendörfer.&lt;/p&gt; 
DTSTART:20230328T180000
DTEND:20230328T193000
LOCATION:MVHS am Scheidplatz Belgradstr. 108
ORGANIZER:MVHS
END:VEVENT
END:VCALENDAR