BEGIN:VCALENDAR
VERSION:2.0
PRODID:-//Stadtgeschichte München//DE
CALSCALE:GREGORIAN
BEGIN:VEVENT
UID:22614@stadtgeschichte-muenchen.de
SUMMARY:Schlossbau, Sphinx und Schuldenberg
DESCRIPTION:&lt;p&gt;Seit Neuestem wacht wieder eine der beiden Sphingen - einst als &quot;scheiß Viecher&quot; von einem Abgeordneten beschimpft - vor dem Nordfriedhof. Immerhin hatten die &quot;Viecher&quot; Thomas Mann als Inspiration für seinen &quot;Tod in Venedig&quot; gedient. Überhaupt ist der Alte Nordfriedhof Ruhestätte berühmter Künstler und Prominenter. Unter anderem eines Königstreuen, eines Freimaurers, eines Olympiapfarrers, eines Finanzministers, eines Pioniers der Münchner Trambahnen in einer Jugendstilkapelle und eines 108jährigen in einem Hortus conclusus. Es geht auch um den Tourismus. Und die Frage, wer hatte ein Herz für eine griechische Insel der Vergessenen, Verrückten und Verbannten? Und wo steht das Schloss auf dem Friedhof? Und wo liegt Hitlers Sekretärin Traudl Junge? Zum Schluss besuchen wir eine aufgelassene Grabstelle, die uns in Gedanken auf die Insel Kreta führt. Zu einer verfallenen Villa, in der der Grabinhaber zu Gast war. Und ganz zum Schluss besuchen wir die prachtvolle Griechisch Orthodoxe Allerheiligenkirchen München.&lt;/p&gt; 
DTSTART:20230318T100000
DTEND:20230318T123000
LOCATION:Nordfriedhof, Haupteingang vor der Aussegnungshalle (bei der Sphinx), Ungererstraße 130
ORGANIZER:DGB-Bildungswerk Bayern e.V. Region München
END:VEVENT
END:VCALENDAR