BEGIN:VCALENDAR
VERSION:2.0
PRODID:-//Stadtgeschichte München//DE
CALSCALE:GREGORIAN
BEGIN:VEVENT
UID:22617@stadtgeschichte-muenchen.de
SUMMARY:München wird besser - ein öko-sozialer Rundgang
DESCRIPTION:&lt;div style=&quot;background:transparent; border:0px; padding:0px 15px&quot;&gt; &lt;p&gt;Nachhaltig in die Zukunft? München ist reich - auch an Menschen und Orten, die den weltweiten schlimmen Entwicklungen wie Klimawandel, auseinanderdriftenden Gesellschaften und Hungersnöten etwas entgegenzusetzen haben. Auf diesem öko-sozialen Rundgang lernen Sie Möglichkeiten kennen, wie jede/r aus seinem/ihrem Alltag heraus etwas mit-bewirken kann. Sei es durch bewussteres Essen und Trinken, alternative Banken, faire Kleidung oder nachhaltige Urlaube - die Alternativen sind da und warten darauf, entdeckt zu werden.&lt;br /&gt; &lt;br /&gt; Highlight: Auf der &quot;Maxi&quot; treffen wir kurz eine Akteur*in aus der öko-fairen Modewelt.&lt;/p&gt; &lt;p&gt;&amp;nbsp;&lt;/p&gt; &lt;/div&gt; 
DTSTART:20230331T160000
DTEND:20230331T180000
LOCATION:
ORGANIZER:DGB-Bildungswerk Bayern e.V. Region München
END:VEVENT
END:VCALENDAR