BEGIN:VCALENDAR
VERSION:2.0
PRODID:-//Stadtgeschichte München//DE
CALSCALE:GREGORIAN
BEGIN:VEVENT
UID:22627@stadtgeschichte-muenchen.de
SUMMARY:Die nackten Musen
DESCRIPTION:&lt;p&gt;Diese Führung zeigt Hintergründe auf, wie wichtig Entblößung für ein gegenständliches Kunstwerk auch heute noch ist und welche ästhetischen Grundlagen dafür vorliegen müssen. Im Bereich des Kunstareal München mit Möglichkeit zum Gang in die Abguss-Sammlung erfahren Sie, was der Unterschied zwischen Akt und figürlich oder Modell und Model ist. Lassen Sie sich auf Informatives einer anderen Welt ein, die normalerweise hinter verschlossenen Türen stattfindet. Diese Führung findet im Freien statt und es wird eine kleine Strecke zu Fuß zurückgelegt.&lt;/p&gt; 
DTSTART:20230421T140000
DTEND:20230421T160000
LOCATION:An den Propyläen (Stadttor), Königsplatz, Luisenstrasse / Ecke Brienner Strasse
ORGANIZER:DGB-Bildungswerk Bayern e.V. Region München
END:VEVENT
END:VCALENDAR