BEGIN:VCALENDAR
VERSION:2.0
PRODID:-//Stadtgeschichte München//DE
CALSCALE:GREGORIAN
BEGIN:VEVENT
UID:22651@stadtgeschichte-muenchen.de
SUMMARY:Das dörfliche Schwabing und seine Industrie
DESCRIPTION:&lt;div style=&quot;background:transparent; border:0px; padding:0px 15px&quot;&gt; &lt;p&gt;Wir erkunden den Kern des ehemaligen Dorfes Schwabing zur Zeit seiner Eingemeindung nach München im Jahr 1890, seine ländlichen Strukturen, Anwesen und Einrichtungen. Von diesen ist heute noch viel zu erkennen, manchmal allerdings erst auf den zweiten Blick. Anschließend führt unser Weg zu ehemaligen Betrieben der Textilbranche und der Schwerindustrie im Englischen Garten.&lt;/p&gt; &lt;p&gt;&amp;nbsp;&lt;/p&gt; &lt;/div&gt; 
DTSTART:20230512T170000
DTEND:20230512T190000
LOCATION:Münchner Freiheit, Eingang Galeria Karstadt, Straßenebene
ORGANIZER:DGB-Bildungswerk Bayern e.V. Region München
END:VEVENT
END:VCALENDAR