BEGIN:VCALENDAR
VERSION:2.0
PRODID:-//Stadtgeschichte München//DE
CALSCALE:GREGORIAN
BEGIN:VEVENT
UID:22658@stadtgeschichte-muenchen.de
SUMMARY:Durch das Würmtal zum Würmdurchbruch
DESCRIPTION:&lt;div style=&quot;background:transparent; border:0px; padding:0px 15px&quot;&gt; &lt;p&gt;Diese Zeitreise in die Geschichte entlang des Würmufers - teils auf hügeligen Trampelpfaden, teils auf dem Rad-Wanderweg daneben -, gipfelt auf dem Karlsberg bei Leutstetten und einem beeindruckenden Ausblick zum Starnberger See. In Leutstetten Rast im Biergartenrestaurant.&lt;br /&gt; Festes Schuhwerk, flexible Kleidung, Fernglas, ggf. Wanderstöcke. 9 km, Gehzeit 2,5 Std., 80 Hm. Fällt bei Sturm oder Starkregen aus.&lt;/p&gt; &lt;p&gt;&amp;nbsp;&lt;/p&gt; &lt;/div&gt; 
DTSTART:20230512T091000
DTEND:20230512T160000
LOCATION:
ORGANIZER:DGB-Bildungswerk Bayern e.V. Region München
END:VEVENT
END:VCALENDAR