BEGIN:VCALENDAR
VERSION:2.0
PRODID:-//Stadtgeschichte München//DE
CALSCALE:GREGORIAN
BEGIN:VEVENT
UID:22671@stadtgeschichte-muenchen.de
SUMMARY:Zeitgenössische Architektur der neuen Kulturhotspots
DESCRIPTION:&lt;p&gt;Der Neubau des Volkstheaters im Schlachthofviertel und das Ausweichquartier der Isarphilharmonie auf dem Gelände HP8 in Sendling bilden zwei wichtige neue Kulturhotspots in München. Ihre modernen Backsteinfassaden mit Industriecharakter prägen die Kreativviertel - zeitgenössische Architektur steht neben scheinbar improvisierten Kunst- und Kulturprojekten wie Bahnwärter Thiel und Alte Utting. Ateliers, Werkstätten, Proberäume, Graffitiwände, Gastronomie und internationale Stars - wir schauen uns in einem Rundgang die architektonische und städteräumliche Veränderung der neuen Kulturzentren an.&lt;/p&gt; 
DTSTART:20230621T160000
DTEND:20230621T173000
LOCATION:Volkstheater, Tumblingerstraße 29
ORGANIZER:DGB-Bildungswerk Bayern e.V. Region München
END:VEVENT
END:VCALENDAR