BEGIN:VCALENDAR
VERSION:2.0
PRODID:-//Stadtgeschichte München//DE
CALSCALE:GREGORIAN
BEGIN:VEVENT
UID:22672@stadtgeschichte-muenchen.de
SUMMARY:&quot;Nie kommt man durch Gewalt zur Gewaltlosigkeit&quot;
DESCRIPTION:&lt;p&gt;Als der Erste Weltkrieg ausbrach, gehörte Gustav Landauer zu den wenigen Menschen, die ihrer pazifistischen Gesinnung treu blieben. Einige Jahre später wurde der bedeutende Philosoph, Publizist und Schriftsteller, der stets für Gewaltfreiheit eintrat, selbst Opfer brutaler Gewalt: Von Kurt Eisner im November 1918 nach München gerufen und von da an aktiv am Revolutionsgeschehen beteiligt, fand er am 2. Mai 1919 bei der Niederschlagung der Räterepublik einen grausamen Tod.&lt;/p&gt; 
DTSTART:20230622T170000
DTEND:20230622T190000
LOCATION:
ORGANIZER:DGB-Bildungswerk Bayern e.V. Region München
END:VEVENT
END:VCALENDAR