BEGIN:VCALENDAR
VERSION:2.0
PRODID:-//Stadtgeschichte München//DE
CALSCALE:GREGORIAN
BEGIN:VEVENT
UID:22679@stadtgeschichte-muenchen.de
SUMMARY:&quot;Ein Unsinn hört auf, ein neuer beginnt&quot;
DESCRIPTION:&lt;p&gt;Mit 17 Jahren kam Oskar Maria Graf nach München, fand Eingang in die Kreise der Anarchisten und Bohemiens, &quot;saß dumm zwischen ihnen und versuchte ein möglichst bedeutendes Gesicht zu machen&quot;. Die folgenden Jahre gehörten zu den aufregendsten seines Lebens. Auf diesem Rundgang begegnen wir dem jungen Dichter in Zeiten der Not und Verzweiflung, begleiten ihn durch Kriegs- und Revolutionswirren und erfahren von so mancher bedeutsamen Begegnung.&lt;/p&gt; 
DTSTART:20230628T170000
DTEND:20230628T190000
LOCATION:	Zweigstr. 10
ORGANIZER:DGB-Bildungswerk Bayern e.V. Region München
END:VEVENT
END:VCALENDAR